BEGIN:VCALENDAR
VERSION:2.0
PRODID:-//Eastern Suburbs Montessori - ECPv6.15.20//NONSGML v1.0//EN
CALSCALE:GREGORIAN
METHOD:PUBLISH
X-ORIGINAL-URL:https://montessoriprimary.school.nz
X-WR-CALDESC:Events for Eastern Suburbs Montessori
REFRESH-INTERVAL;VALUE=DURATION:PT1H
X-Robots-Tag:noindex
X-PUBLISHED-TTL:PT1H
BEGIN:VTIMEZONE
TZID:Pacific/Auckland
BEGIN:STANDARD
TZOFFSETFROM:+1300
TZOFFSETTO:+1200
TZNAME:NZST
DTSTART:20250405T140000
END:STANDARD
BEGIN:DAYLIGHT
TZOFFSETFROM:+1200
TZOFFSETTO:+1300
TZNAME:NZDT
DTSTART:20250927T140000
END:DAYLIGHT
BEGIN:STANDARD
TZOFFSETFROM:+1300
TZOFFSETTO:+1200
TZNAME:NZST
DTSTART:20260404T140000
END:STANDARD
BEGIN:DAYLIGHT
TZOFFSETFROM:+1200
TZOFFSETTO:+1300
TZNAME:NZDT
DTSTART:20260926T140000
END:DAYLIGHT
BEGIN:STANDARD
TZOFFSETFROM:+1300
TZOFFSETTO:+1200
TZNAME:NZST
DTSTART:20270403T140000
END:STANDARD
BEGIN:DAYLIGHT
TZOFFSETFROM:+1200
TZOFFSETTO:+1300
TZNAME:NZDT
DTSTART:20270925T140000
END:DAYLIGHT
END:VTIMEZONE
BEGIN:VEVENT
DTSTART;TZID=Pacific/Auckland:20260703T080000
DTEND;TZID=Pacific/Auckland:20260703T150000
DTSTAMP:20260423T074540
CREATED:20260129T000023Z
LAST-MODIFIED:20260129T000023Z
UID:9464-1783065600-1783090800@montessoriprimary.school.nz
SUMMARY:Last Day - Term 2
DESCRIPTION:
URL:https://montessoriprimary.school.nz/calendar/last-day-term-2/
END:VEVENT
BEGIN:VEVENT
DTSTART;TZID=Pacific/Auckland:20260720T080000
DTEND;TZID=Pacific/Auckland:20260720T150000
DTSTAMP:20260423T074540
CREATED:20260129T000048Z
LAST-MODIFIED:20260129T000048Z
UID:9466-1784534400-1784559600@montessoriprimary.school.nz
SUMMARY:Day 1 - Term 3
DESCRIPTION:
URL:https://montessoriprimary.school.nz/calendar/day-1-term-3/
END:VEVENT
BEGIN:VEVENT
DTSTART;TZID=Pacific/Auckland:20260727T190000
DTEND;TZID=Pacific/Auckland:20260727T210000
DTSTAMP:20260423T074540
CREATED:20251111T195907Z
LAST-MODIFIED:20251111T195907Z
UID:9419-1785178800-1785186000@montessoriprimary.school.nz
SUMMARY:Trust Meeting
DESCRIPTION:
URL:https://montessoriprimary.school.nz/calendar/trust-meeting-21/
CATEGORIES:Trust meeting
END:VEVENT
BEGIN:VEVENT
DTSTART;TZID=Pacific/Auckland:20260730T193000
DTEND;TZID=Pacific/Auckland:20260730T203000
DTSTAMP:20260423T074540
CREATED:20251019T204511Z
LAST-MODIFIED:20251019T204511Z
UID:9394-1785439800-1785443400@montessoriprimary.school.nz
SUMMARY:MPTA Meeting
DESCRIPTION:
URL:https://montessoriprimary.school.nz/calendar/mpta-meeting-10/
LOCATION:Room 27
CATEGORIES:PTA meeting
END:VEVENT
END:VCALENDAR