BEGIN:VCALENDAR
VERSION:2.0
PRODID:-//Eastern Suburbs Montessori - ECPv6.15.20//NONSGML v1.0//EN
CALSCALE:GREGORIAN
METHOD:PUBLISH
X-WR-CALNAME:Eastern Suburbs Montessori
X-ORIGINAL-URL:https://montessoriprimary.school.nz
X-WR-CALDESC:Events for Eastern Suburbs Montessori
REFRESH-INTERVAL;VALUE=DURATION:PT1H
X-Robots-Tag:noindex
X-PUBLISHED-TTL:PT1H
BEGIN:VTIMEZONE
TZID:Pacific/Auckland
BEGIN:STANDARD
TZOFFSETFROM:+1300
TZOFFSETTO:+1200
TZNAME:NZST
DTSTART:20250405T140000
END:STANDARD
BEGIN:DAYLIGHT
TZOFFSETFROM:+1200
TZOFFSETTO:+1300
TZNAME:NZDT
DTSTART:20250927T140000
END:DAYLIGHT
BEGIN:STANDARD
TZOFFSETFROM:+1300
TZOFFSETTO:+1200
TZNAME:NZST
DTSTART:20260404T140000
END:STANDARD
BEGIN:DAYLIGHT
TZOFFSETFROM:+1200
TZOFFSETTO:+1300
TZNAME:NZDT
DTSTART:20260926T140000
END:DAYLIGHT
BEGIN:STANDARD
TZOFFSETFROM:+1300
TZOFFSETTO:+1200
TZNAME:NZST
DTSTART:20270403T140000
END:STANDARD
BEGIN:DAYLIGHT
TZOFFSETFROM:+1200
TZOFFSETTO:+1300
TZNAME:NZDT
DTSTART:20270925T140000
END:DAYLIGHT
END:VTIMEZONE
BEGIN:VEVENT
DTSTART;TZID=Pacific/Auckland:20260301T140000
DTEND;TZID=Pacific/Auckland:20260301T153000
DTSTAMP:20260423T041728
CREATED:20251019T204645Z
LAST-MODIFIED:20260129T004325Z
UID:9398-1772373600-1772379000@montessoriprimary.school.nz
SUMMARY:MPTA Working Bee - Outside
DESCRIPTION:
URL:https://montessoriprimary.school.nz/calendar/mpta-working-bee-outside/
LOCATION:Montessori Classes\, 217 Riddell Road\, Glendowie\, Auckland\, New Zealand
CATEGORIES:Working Bee
END:VEVENT
BEGIN:VEVENT
DTSTART;TZID=Pacific/Auckland:20260304T130000
DTEND;TZID=Pacific/Auckland:20260304T143000
DTSTAMP:20260423T041728
CREATED:20251111T200235Z
LAST-MODIFIED:20260224T220244Z
UID:9429-1772629200-1772634600@montessoriprimary.school.nz
SUMMARY:Roberta Ave Trip (Montessori Unit)
DESCRIPTION:
URL:https://montessoriprimary.school.nz/calendar/karaka-park-trip/
LOCATION:Roberta Ave Reserve
CATEGORIES:Class trip
END:VEVENT
BEGIN:VEVENT
DTSTART;TZID=Pacific/Auckland:20260306T130000
DTEND;TZID=Pacific/Auckland:20260306T143000
DTSTAMP:20260423T041728
CREATED:20260202T220957Z
LAST-MODIFIED:20260202T220957Z
UID:9489-1772802000-1772807400@montessoriprimary.school.nz
SUMMARY:Year 7&8 Practise Swim Sports
DESCRIPTION:
URL:https://montessoriprimary.school.nz/calendar/year-78-practise-swim-sports-2/
LOCATION:Sacred Heart School Pool
CATEGORIES:Sports
END:VEVENT
BEGIN:VEVENT
DTSTART;TZID=Pacific/Auckland:20260308T140000
DTEND;TZID=Pacific/Auckland:20260308T153000
DTSTAMP:20260423T041728
CREATED:20251111T200315Z
LAST-MODIFIED:20251111T200315Z
UID:9431-1772978400-1772983800@montessoriprimary.school.nz
SUMMARY:Open Day
DESCRIPTION:
URL:https://montessoriprimary.school.nz/calendar/open-day-3/
END:VEVENT
BEGIN:VEVENT
DTSTART;VALUE=DATE:20260309
DTEND;VALUE=DATE:20260310
DTSTAMP:20260423T041728
CREATED:20251111T200355Z
LAST-MODIFIED:20251111T200355Z
UID:9433-1773014400-1773100799@montessoriprimary.school.nz
SUMMARY:Camp Adair - Year 5-8
DESCRIPTION:
URL:https://montessoriprimary.school.nz/calendar/camp-adair-year-5-8/
END:VEVENT
BEGIN:VEVENT
DTSTART;VALUE=DATE:20260310
DTEND;VALUE=DATE:20260311
DTSTAMP:20260423T041728
CREATED:20251111T200421Z
LAST-MODIFIED:20251111T200421Z
UID:9435-1773100800-1773187199@montessoriprimary.school.nz
SUMMARY:Camp Adair Year 5-8
DESCRIPTION:
URL:https://montessoriprimary.school.nz/calendar/camp-adair-year-5-8-2/
END:VEVENT
BEGIN:VEVENT
DTSTART;TZID=Pacific/Auckland:20260310T090000
DTEND;TZID=Pacific/Auckland:20260310T133000
DTSTAMP:20260423T041728
CREATED:20260128T235601Z
LAST-MODIFIED:20260128T235601Z
UID:9456-1773133200-1773149400@montessoriprimary.school.nz
SUMMARY:Junior Swim Sports - School Pool
DESCRIPTION:Year 4 – 9.15 – 10.15 \nYear 3 10.40 – 11.40 \nYear 2 12.10 – 1.10pm
URL:https://montessoriprimary.school.nz/calendar/junior-swim-sports-school-pool/
LOCATION:Glendowie School Pool\, 217 Riddell Road\, Glendowie\, Auckland\, 1071\, New Zealand
CATEGORIES:Sports
END:VEVENT
BEGIN:VEVENT
DTSTART;TZID=Pacific/Auckland:20260311T080000
DTEND;TZID=Pacific/Auckland:20260311T153000
DTSTAMP:20260423T041728
CREATED:20251111T200456Z
LAST-MODIFIED:20251111T200456Z
UID:9437-1773216000-1773243000@montessoriprimary.school.nz
SUMMARY:Camp Adair Year 5-8
DESCRIPTION:
URL:https://montessoriprimary.school.nz/calendar/camp-adair-year-5-8-3/
END:VEVENT
BEGIN:VEVENT
DTSTART;TZID=Pacific/Auckland:20260313T100000
DTEND;TZID=Pacific/Auckland:20260313T123000
DTSTAMP:20260423T041728
CREATED:20260202T221046Z
LAST-MODIFIED:20260202T221046Z
UID:9491-1773396000-1773405000@montessoriprimary.school.nz
SUMMARY:Year 5&6 Practise Swimming Sports
DESCRIPTION:
URL:https://montessoriprimary.school.nz/calendar/year-56-practise-swimming-sports/
LOCATION:Sacred Heart School Pool
CATEGORIES:Sports
END:VEVENT
BEGIN:VEVENT
DTSTART;TZID=Pacific/Auckland:20260316T190000
DTEND;TZID=Pacific/Auckland:20260316T210000
DTSTAMP:20260423T041728
CREATED:20251111T195703Z
LAST-MODIFIED:20251111T195703Z
UID:9411-1773687600-1773694800@montessoriprimary.school.nz
SUMMARY:Trust Meeting
DESCRIPTION:
URL:https://montessoriprimary.school.nz/calendar/trust-meeting-17/
CATEGORIES:Trust meeting
END:VEVENT
BEGIN:VEVENT
DTSTART;TZID=Pacific/Auckland:20260320T090000
DTEND;TZID=Pacific/Auckland:20260320T150000
DTSTAMP:20260423T041728
CREATED:20260128T235710Z
LAST-MODIFIED:20260128T235710Z
UID:9458-1773997200-1774018800@montessoriprimary.school.nz
SUMMARY:Year 5-8 Swimming Sports
DESCRIPTION:
URL:https://montessoriprimary.school.nz/calendar/year-5-8-swimming-sports/
LOCATION:Sacred Heart School Pool
CATEGORIES:Sports
END:VEVENT
BEGIN:VEVENT
DTSTART;TZID=Pacific/Auckland:20260321T130000
DTEND;TZID=Pacific/Auckland:20260321T160000
DTSTAMP:20260423T041728
CREATED:20260215T195701Z
LAST-MODIFIED:20260215T195701Z
UID:9498-1774098000-1774108800@montessoriprimary.school.nz
SUMMARY:MPTA Social Event - PT Erin Pools
DESCRIPTION:
URL:https://montessoriprimary.school.nz/calendar/mpta-social-event-pt-erin-pools/
LOCATION:Pt Erin Pools\, 94 Shelly Beach Road\, Herne Bay\, Auckland
CATEGORIES:Social event
ORGANIZER;CN="ESMPS":MAILTO:info@montessoriprimary.school.nz
END:VEVENT
END:VCALENDAR