BEGIN:VCALENDAR
VERSION:2.0
PRODID:-//Eastern Suburbs Montessori - ECPv6.15.20//NONSGML v1.0//EN
CALSCALE:GREGORIAN
METHOD:PUBLISH
X-WR-CALNAME:Eastern Suburbs Montessori
X-ORIGINAL-URL:https://montessoriprimary.school.nz
X-WR-CALDESC:Events for Eastern Suburbs Montessori
REFRESH-INTERVAL;VALUE=DURATION:PT1H
X-Robots-Tag:noindex
X-PUBLISHED-TTL:PT1H
BEGIN:VTIMEZONE
TZID:Pacific/Auckland
BEGIN:STANDARD
TZOFFSETFROM:+1300
TZOFFSETTO:+1200
TZNAME:NZST
DTSTART:20250405T140000
END:STANDARD
BEGIN:DAYLIGHT
TZOFFSETFROM:+1200
TZOFFSETTO:+1300
TZNAME:NZDT
DTSTART:20250927T140000
END:DAYLIGHT
BEGIN:STANDARD
TZOFFSETFROM:+1300
TZOFFSETTO:+1200
TZNAME:NZST
DTSTART:20260404T140000
END:STANDARD
BEGIN:DAYLIGHT
TZOFFSETFROM:+1200
TZOFFSETTO:+1300
TZNAME:NZDT
DTSTART:20260926T140000
END:DAYLIGHT
BEGIN:STANDARD
TZOFFSETFROM:+1300
TZOFFSETTO:+1200
TZNAME:NZST
DTSTART:20270403T140000
END:STANDARD
BEGIN:DAYLIGHT
TZOFFSETFROM:+1200
TZOFFSETTO:+1300
TZNAME:NZDT
DTSTART:20270925T140000
END:DAYLIGHT
END:VTIMEZONE
BEGIN:VEVENT
DTSTART;TZID=Pacific/Auckland:20260202T150000
DTEND;TZID=Pacific/Auckland:20260202T160000
DTSTAMP:20260423T055845
CREATED:20260128T235243Z
LAST-MODIFIED:20260128T235243Z
UID:9454-1770044400-1770048000@montessoriprimary.school.nz
SUMMARY:Welcome Back - Informal get together
DESCRIPTION:
URL:https://montessoriprimary.school.nz/calendar/welcome-back-informal-get-together/
END:VEVENT
BEGIN:VEVENT
DTSTART;TZID=Pacific/Auckland:20260203T083000
DTEND;TZID=Pacific/Auckland:20260203T150000
DTSTAMP:20260423T055845
CREATED:20260128T235149Z
LAST-MODIFIED:20260128T235149Z
UID:9452-1770107400-1770130800@montessoriprimary.school.nz
SUMMARY:Day 1 - Term 1
DESCRIPTION:
URL:https://montessoriprimary.school.nz/calendar/day-1-term-1/
END:VEVENT
BEGIN:VEVENT
DTSTART;TZID=Pacific/Auckland:20260212T193000
DTEND;TZID=Pacific/Auckland:20260212T203000
DTSTAMP:20260423T055845
CREATED:20251019T204315Z
LAST-MODIFIED:20251019T204315Z
UID:9390-1770924600-1770928200@montessoriprimary.school.nz
SUMMARY:MPTA Meeting
DESCRIPTION:
URL:https://montessoriprimary.school.nz/calendar/mpta-meeting-8/
LOCATION:Room 27
CATEGORIES:PTA meeting
END:VEVENT
BEGIN:VEVENT
DTSTART;TZID=Pacific/Auckland:20260216T190000
DTEND;TZID=Pacific/Auckland:20260216T210000
DTSTAMP:20260423T055845
CREATED:20251111T195632Z
LAST-MODIFIED:20251111T195632Z
UID:9409-1771268400-1771275600@montessoriprimary.school.nz
SUMMARY:Trust Meeting
DESCRIPTION:
URL:https://montessoriprimary.school.nz/calendar/trust-meeting-16/
CATEGORIES:Trust meeting
END:VEVENT
BEGIN:VEVENT
DTSTART;TZID=Pacific/Auckland:20260218T173000
DTEND;TZID=Pacific/Auckland:20260218T190000
DTSTAMP:20260423T055845
CREATED:20260129T230332Z
LAST-MODIFIED:20260129T230332Z
UID:9484-1771435800-1771441200@montessoriprimary.school.nz
SUMMARY:Meet The Teacher
DESCRIPTION:Parent Forum – School Wide    School Hall    5.30-6.00pm \nYears 1-8            Montessori       R27 & R28    6.10-6.40pm \nYear 5-8             Camp Mtg         R27                 6.45-7.15pm
URL:https://montessoriprimary.school.nz/calendar/meet-the-teacher-3/
END:VEVENT
BEGIN:VEVENT
DTSTART;TZID=Pacific/Auckland:20260223T090000
DTEND;TZID=Pacific/Auckland:20260223T143000
DTSTAMP:20260423T055845
CREATED:20260211T210846Z
LAST-MODIFIED:20260211T210846Z
UID:9496-1771837200-1771857000@montessoriprimary.school.nz
SUMMARY:Yr 7&8 Trip to Maungawhau (Mt Eden)
DESCRIPTION:
URL:https://montessoriprimary.school.nz/calendar/yr-78-trip-to-maungawhau-mt-eden/
CATEGORIES:Class trip
END:VEVENT
BEGIN:VEVENT
DTSTART;TZID=Pacific/Auckland:20260226T130000
DTEND;TZID=Pacific/Auckland:20260226T143000
DTSTAMP:20260423T055845
CREATED:20260202T220912Z
LAST-MODIFIED:20260202T220912Z
UID:9487-1772110800-1772116200@montessoriprimary.school.nz
SUMMARY:Year 7&8 Practise Swim Sports
DESCRIPTION:
URL:https://montessoriprimary.school.nz/calendar/year-78-practise-swim-sports/
LOCATION:Sacred Heart School Pool
CATEGORIES:Sports
END:VEVENT
END:VCALENDAR