BEGIN:VCALENDAR
VERSION:2.0
PRODID:-//Eastern Suburbs Montessori - ECPv6.15.20//NONSGML v1.0//EN
CALSCALE:GREGORIAN
METHOD:PUBLISH
X-WR-CALNAME:Eastern Suburbs Montessori
X-ORIGINAL-URL:https://montessoriprimary.school.nz
X-WR-CALDESC:Events for Eastern Suburbs Montessori
REFRESH-INTERVAL;VALUE=DURATION:PT1H
X-Robots-Tag:noindex
X-PUBLISHED-TTL:PT1H
BEGIN:VTIMEZONE
TZID:Pacific/Auckland
BEGIN:STANDARD
TZOFFSETFROM:+1300
TZOFFSETTO:+1200
TZNAME:NZST
DTSTART:20240406T140000
END:STANDARD
BEGIN:DAYLIGHT
TZOFFSETFROM:+1200
TZOFFSETTO:+1300
TZNAME:NZDT
DTSTART:20240928T140000
END:DAYLIGHT
BEGIN:STANDARD
TZOFFSETFROM:+1300
TZOFFSETTO:+1200
TZNAME:NZST
DTSTART:20250405T140000
END:STANDARD
BEGIN:DAYLIGHT
TZOFFSETFROM:+1200
TZOFFSETTO:+1300
TZNAME:NZDT
DTSTART:20250927T140000
END:DAYLIGHT
BEGIN:STANDARD
TZOFFSETFROM:+1300
TZOFFSETTO:+1200
TZNAME:NZST
DTSTART:20260404T140000
END:STANDARD
BEGIN:DAYLIGHT
TZOFFSETFROM:+1200
TZOFFSETTO:+1300
TZNAME:NZDT
DTSTART:20260926T140000
END:DAYLIGHT
END:VTIMEZONE
BEGIN:VEVENT
DTSTART;TZID=Pacific/Auckland:20251209T173000
DTEND;TZID=Pacific/Auckland:20251209T190000
DTSTAMP:20260423T091542
CREATED:20250226T212440Z
LAST-MODIFIED:20250226T212440Z
UID:9287-1765301400-1765306800@montessoriprimary.school.nz
SUMMARY:ESMPS Leaving Ceremony
DESCRIPTION:
URL:https://montessoriprimary.school.nz/calendar/esmps-leaving-ceremony-2/
LOCATION:Glendowie School Mini Hall\, 217 Riddell Road\, Glendowie\, Auckland
END:VEVENT
BEGIN:VEVENT
DTSTART;TZID=Pacific/Auckland:20251211T133000
DTEND;TZID=Pacific/Auckland:20251211T150000
DTSTAMP:20260423T091542
CREATED:20250728T233339Z
LAST-MODIFIED:20250728T233339Z
UID:9377-1765459800-1765465200@montessoriprimary.school.nz
SUMMARY:Glendowie Y8 Graduation
DESCRIPTION:
URL:https://montessoriprimary.school.nz/calendar/glendowie-y8-graduation/
LOCATION:Glendowie School Hall
END:VEVENT
BEGIN:VEVENT
DTSTART;TZID=Pacific/Auckland:20251212T163000
DTEND;TZID=Pacific/Auckland:20251212T173000
DTSTAMP:20260423T091542
CREATED:20250728T233414Z
LAST-MODIFIED:20250728T233414Z
UID:9379-1765557000-1765560600@montessoriprimary.school.nz
SUMMARY:Glendowie Colour Run t.b.c.
DESCRIPTION:
URL:https://montessoriprimary.school.nz/calendar/glendowie-colour-run-t-b-c/
END:VEVENT
BEGIN:VEVENT
DTSTART;TZID=Pacific/Auckland:20251216T080000
DTEND;TZID=Pacific/Auckland:20251216T140000
DTSTAMP:20260423T091542
CREATED:20250128T213649Z
LAST-MODIFIED:20250501T013744Z
UID:9231-1765872000-1765893600@montessoriprimary.school.nz
SUMMARY:Last Day of school - finishes at 2pm
DESCRIPTION:
URL:https://montessoriprimary.school.nz/calendar/last-day-of-school-finishes-at-2pm/
END:VEVENT
END:VCALENDAR