BEGIN:VCALENDAR
VERSION:2.0
PRODID:-//Eastern Suburbs Montessori - ECPv6.15.20//NONSGML v1.0//EN
CALSCALE:GREGORIAN
METHOD:PUBLISH
X-WR-CALNAME:Eastern Suburbs Montessori
X-ORIGINAL-URL:https://montessoriprimary.school.nz
X-WR-CALDESC:Events for Eastern Suburbs Montessori
REFRESH-INTERVAL;VALUE=DURATION:PT1H
X-Robots-Tag:noindex
X-PUBLISHED-TTL:PT1H
BEGIN:VTIMEZONE
TZID:Pacific/Auckland
BEGIN:STANDARD
TZOFFSETFROM:+1300
TZOFFSETTO:+1200
TZNAME:NZST
DTSTART:20240406T140000
END:STANDARD
BEGIN:DAYLIGHT
TZOFFSETFROM:+1200
TZOFFSETTO:+1300
TZNAME:NZDT
DTSTART:20240928T140000
END:DAYLIGHT
BEGIN:STANDARD
TZOFFSETFROM:+1300
TZOFFSETTO:+1200
TZNAME:NZST
DTSTART:20250405T140000
END:STANDARD
BEGIN:DAYLIGHT
TZOFFSETFROM:+1200
TZOFFSETTO:+1300
TZNAME:NZDT
DTSTART:20250927T140000
END:DAYLIGHT
BEGIN:STANDARD
TZOFFSETFROM:+1300
TZOFFSETTO:+1200
TZNAME:NZST
DTSTART:20260404T140000
END:STANDARD
BEGIN:DAYLIGHT
TZOFFSETFROM:+1200
TZOFFSETTO:+1300
TZNAME:NZDT
DTSTART:20260926T140000
END:DAYLIGHT
END:VTIMEZONE
BEGIN:VEVENT
DTSTART;TZID=Pacific/Auckland:20251006T083000
DTEND;TZID=Pacific/Auckland:20251006T170000
DTSTAMP:20260423T124356
CREATED:20250128T213719Z
LAST-MODIFIED:20250128T213719Z
UID:9233-1759739400-1759770000@montessoriprimary.school.nz
SUMMARY:Term 4 Starts
DESCRIPTION:
URL:https://montessoriprimary.school.nz/calendar/term-4-starts-4/
END:VEVENT
BEGIN:VEVENT
DTSTART;TZID=Pacific/Auckland:20251007T190000
DTEND;TZID=Pacific/Auckland:20251007T210000
DTSTAMP:20260423T124356
CREATED:20250226T220334Z
LAST-MODIFIED:20250226T220334Z
UID:9305-1759863600-1759870800@montessoriprimary.school.nz
SUMMARY:Trust Meeting
DESCRIPTION:
URL:https://montessoriprimary.school.nz/calendar/trust-meeting-13/
LOCATION:Montessori Classes\, 217 Riddell Road\, Glendowie\, Auckland\, New Zealand
CATEGORIES:Trust meeting
END:VEVENT
BEGIN:VEVENT
DTSTART;TZID=Pacific/Auckland:20251016T193000
DTEND;TZID=Pacific/Auckland:20251016T210000
DTSTAMP:20260423T124356
CREATED:20250128T213425Z
LAST-MODIFIED:20250128T213425Z
UID:9223-1760643000-1760648400@montessoriprimary.school.nz
SUMMARY:MPTA Meeting
DESCRIPTION:
URL:https://montessoriprimary.school.nz/calendar/mpta-meeting-7/
LOCATION:Room 27
CATEGORIES:PTA meeting
END:VEVENT
BEGIN:VEVENT
DTSTART;VALUE=DATE:20251027
DTEND;VALUE=DATE:20251028
DTSTAMP:20260423T124356
CREATED:20250128T213608Z
LAST-MODIFIED:20250128T213608Z
UID:9229-1761523200-1761609599@montessoriprimary.school.nz
SUMMARY:Labour Day - SCHOOL CLOSED
DESCRIPTION:
URL:https://montessoriprimary.school.nz/calendar/labour-day-school-closed/
END:VEVENT
BEGIN:VEVENT
DTSTART;TZID=Pacific/Auckland:20251028T080000
DTEND;TZID=Pacific/Auckland:20251028T170000
DTSTAMP:20260423T124356
CREATED:20250430T213230Z
LAST-MODIFIED:20250430T213230Z
UID:9319-1761638400-1761670800@montessoriprimary.school.nz
SUMMARY:Teacher Only Day - SCHOOL CLOSED
DESCRIPTION:
URL:https://montessoriprimary.school.nz/calendar/teacher-only-day-school-closed-8/
END:VEVENT
BEGIN:VEVENT
DTSTART;TZID=Pacific/Auckland:20251028T190000
DTEND;TZID=Pacific/Auckland:20251028T210000
DTSTAMP:20260423T124356
CREATED:20250226T220421Z
LAST-MODIFIED:20250226T220421Z
UID:9307-1761678000-1761685200@montessoriprimary.school.nz
SUMMARY:Trust Meeting
DESCRIPTION:
URL:https://montessoriprimary.school.nz/calendar/trust-meeting-14/
LOCATION:Montessori Classes\, 217 Riddell Road\, Glendowie\, Auckland\, New Zealand
CATEGORIES:Trust meeting
END:VEVENT
END:VCALENDAR