BEGIN:VCALENDAR
VERSION:2.0
PRODID:-//Eastern Suburbs Montessori - ECPv6.15.20//NONSGML v1.0//EN
CALSCALE:GREGORIAN
METHOD:PUBLISH
X-ORIGINAL-URL:https://montessoriprimary.school.nz
X-WR-CALDESC:Events for Eastern Suburbs Montessori
REFRESH-INTERVAL;VALUE=DURATION:PT1H
X-Robots-Tag:noindex
X-PUBLISHED-TTL:PT1H
BEGIN:VTIMEZONE
TZID:Pacific/Auckland
BEGIN:STANDARD
TZOFFSETFROM:+1300
TZOFFSETTO:+1200
TZNAME:NZST
DTSTART:20240406T140000
END:STANDARD
BEGIN:DAYLIGHT
TZOFFSETFROM:+1200
TZOFFSETTO:+1300
TZNAME:NZDT
DTSTART:20240928T140000
END:DAYLIGHT
BEGIN:STANDARD
TZOFFSETFROM:+1300
TZOFFSETTO:+1200
TZNAME:NZST
DTSTART:20250405T140000
END:STANDARD
BEGIN:DAYLIGHT
TZOFFSETFROM:+1200
TZOFFSETTO:+1300
TZNAME:NZDT
DTSTART:20250927T140000
END:DAYLIGHT
BEGIN:STANDARD
TZOFFSETFROM:+1300
TZOFFSETTO:+1200
TZNAME:NZST
DTSTART:20260404T140000
END:STANDARD
BEGIN:DAYLIGHT
TZOFFSETFROM:+1200
TZOFFSETTO:+1300
TZNAME:NZDT
DTSTART:20260926T140000
END:DAYLIGHT
END:VTIMEZONE
BEGIN:VEVENT
DTSTART;TZID=Pacific/Auckland:20250903T085500
DTEND;TZID=Pacific/Auckland:20250903T103000
DTSTAMP:20260423T144733
CREATED:20250728T231255Z
LAST-MODIFIED:20250812T233233Z
UID:9358-1756889700-1756895400@montessoriprimary.school.nz
SUMMARY:R27 Student Led Conference - 2 sessions 9.05am & 9.50am
DESCRIPTION:Session 1   9.05-9.40 \nSession 2   9.50-10.25
URL:https://montessoriprimary.school.nz/calendar/r27-student-led-conference-2-sessions-8-55am-9-50am/
LOCATION:Room 27
END:VEVENT
BEGIN:VEVENT
DTSTART;TZID=Pacific/Auckland:20250904T090500
DTEND;TZID=Pacific/Auckland:20250904T103000
DTSTAMP:20260423T144733
CREATED:20250728T231435Z
LAST-MODIFIED:20250728T231435Z
UID:9360-1756976700-1756981800@montessoriprimary.school.nz
SUMMARY:R28 Student Led Conference - 2 sessions 9.50am & 9.50am
DESCRIPTION:Session 1     9.05 to 9.40 \nSession 2    9.50 to 10.25
URL:https://montessoriprimary.school.nz/calendar/r28-student-led-conference-2-sessions-9-50am-9-50am/
LOCATION:Room 28\, ESMPS
END:VEVENT
BEGIN:VEVENT
DTSTART;TZID=Pacific/Auckland:20250919T080000
DTEND;TZID=Pacific/Auckland:20250919T170000
DTSTAMP:20260423T144733
CREATED:20250128T213745Z
LAST-MODIFIED:20250128T213745Z
UID:9235-1758268800-1758301200@montessoriprimary.school.nz
SUMMARY:Last day of Term 3
DESCRIPTION:
URL:https://montessoriprimary.school.nz/calendar/last-day-of-term-3-4/
END:VEVENT
END:VCALENDAR