BEGIN:VCALENDAR
VERSION:2.0
PRODID:-//Eastern Suburbs Montessori - ECPv6.15.20//NONSGML v1.0//EN
CALSCALE:GREGORIAN
METHOD:PUBLISH
X-WR-CALNAME:Eastern Suburbs Montessori
X-ORIGINAL-URL:https://montessoriprimary.school.nz
X-WR-CALDESC:Events for Eastern Suburbs Montessori
REFRESH-INTERVAL;VALUE=DURATION:PT1H
X-Robots-Tag:noindex
X-PUBLISHED-TTL:PT1H
BEGIN:VTIMEZONE
TZID:Pacific/Auckland
BEGIN:STANDARD
TZOFFSETFROM:+1300
TZOFFSETTO:+1200
TZNAME:NZST
DTSTART:20240406T140000
END:STANDARD
BEGIN:DAYLIGHT
TZOFFSETFROM:+1200
TZOFFSETTO:+1300
TZNAME:NZDT
DTSTART:20240928T140000
END:DAYLIGHT
BEGIN:STANDARD
TZOFFSETFROM:+1300
TZOFFSETTO:+1200
TZNAME:NZST
DTSTART:20250405T140000
END:STANDARD
BEGIN:DAYLIGHT
TZOFFSETFROM:+1200
TZOFFSETTO:+1300
TZNAME:NZDT
DTSTART:20250927T140000
END:DAYLIGHT
BEGIN:STANDARD
TZOFFSETFROM:+1300
TZOFFSETTO:+1200
TZNAME:NZST
DTSTART:20260404T140000
END:STANDARD
BEGIN:DAYLIGHT
TZOFFSETFROM:+1200
TZOFFSETTO:+1300
TZNAME:NZDT
DTSTART:20260926T140000
END:DAYLIGHT
END:VTIMEZONE
BEGIN:VEVENT
DTSTART;TZID=Pacific/Auckland:20250805T090000
DTEND;TZID=Pacific/Auckland:20250805T150000
DTSTAMP:20260423T163612
CREATED:20250728T232006Z
LAST-MODIFIED:20250728T232017Z
UID:9364-1754384400-1754406000@montessoriprimary.school.nz
SUMMARY:Year 3-8 Cross Country
DESCRIPTION:9.00am   Year 7 \n9.45am    Year 8 \n11.00am   Year 3 \n11.45am   Year 4 \n1.30pm     Year 5 \n2.15pm     Year 6
URL:https://montessoriprimary.school.nz/calendar/year-3-8-cross-country-2/
LOCATION:Glendowie School – Park across the Road
CATEGORIES:Sports
END:VEVENT
BEGIN:VEVENT
DTSTART;TZID=Pacific/Auckland:20250807T110000
DTEND;TZID=Pacific/Auckland:20250807T120000
DTSTAMP:20260423T163612
CREATED:20250728T232141Z
LAST-MODIFIED:20250728T232141Z
UID:9366-1754564400-1754568000@montessoriprimary.school.nz
SUMMARY:Year 1 - 2 Cross Country  11.00am -12.30pm
DESCRIPTION:11.00am  Year 2 \n11.30am   Year 1 \n12.00pm  Year 0
URL:https://montessoriprimary.school.nz/calendar/year-1-2-cross-country-11-00am-12-30pm/
END:VEVENT
BEGIN:VEVENT
DTSTART;TZID=Pacific/Auckland:20250811T190000
DTEND;TZID=Pacific/Auckland:20250811T203000
DTSTAMP:20260423T163612
CREATED:20250728T231617Z
LAST-MODIFIED:20250728T231617Z
UID:9362-1754938800-1754944200@montessoriprimary.school.nz
SUMMARY:Parent Information Evening
DESCRIPTION:
URL:https://montessoriprimary.school.nz/calendar/parent-information-evening-3/
LOCATION:Montessori Classes\, 217 Riddell Road\, Glendowie\, Auckland\, New Zealand
END:VEVENT
BEGIN:VEVENT
DTSTART;TZID=Pacific/Auckland:20250815T170000
DTEND;TZID=Pacific/Auckland:20250815T173000
DTSTAMP:20260423T163612
CREATED:20250728T232634Z
LAST-MODIFIED:20250728T232634Z
UID:9371-1755277200-1755279000@montessoriprimary.school.nz
SUMMARY:Glendowie School DISCO - Sensory Session
DESCRIPTION:
URL:https://montessoriprimary.school.nz/calendar/glendowie-school-disco-sensory-session/
LOCATION:Glendowie School Hall
END:VEVENT
BEGIN:VEVENT
DTSTART;TZID=Pacific/Auckland:20250815T173000
DTEND;TZID=Pacific/Auckland:20250815T184500
DTSTAMP:20260423T163612
CREATED:20250728T232722Z
LAST-MODIFIED:20250728T232807Z
UID:9373-1755279000-1755283500@montessoriprimary.school.nz
SUMMARY:Glendowie School DISCO - Yr 0-4
DESCRIPTION:
URL:https://montessoriprimary.school.nz/calendar/glendowie-school-disco-yr-0-4/
LOCATION:Glendowie School Hall
END:VEVENT
BEGIN:VEVENT
DTSTART;TZID=Pacific/Auckland:20250815T190000
DTEND;TZID=Pacific/Auckland:20250815T203000
DTSTAMP:20260423T163612
CREATED:20250728T232847Z
LAST-MODIFIED:20250728T232847Z
UID:9375-1755284400-1755289800@montessoriprimary.school.nz
SUMMARY:Glendowie School DISCO - Yr 5-8
DESCRIPTION:
URL:https://montessoriprimary.school.nz/calendar/glendowie-school-disco-yr-5-8/
LOCATION:Glendowie School Hall
END:VEVENT
BEGIN:VEVENT
DTSTART;TZID=Pacific/Auckland:20250818T080000
DTEND;TZID=Pacific/Auckland:20250818T170000
DTSTAMP:20260423T163612
CREATED:20250430T213129Z
LAST-MODIFIED:20250430T213129Z
UID:9317-1755504000-1755536400@montessoriprimary.school.nz
SUMMARY:Teacher Only Day - SCHOOL CLOSED
DESCRIPTION:
URL:https://montessoriprimary.school.nz/calendar/teacher-only-day-school-closed-6/
END:VEVENT
BEGIN:VEVENT
DTSTART;TZID=Pacific/Auckland:20250820T090000
DTEND;TZID=Pacific/Auckland:20250820T140000
DTSTAMP:20260423T163612
CREATED:20250728T231019Z
LAST-MODIFIED:20250728T231019Z
UID:9354-1755680400-1755698400@montessoriprimary.school.nz
SUMMARY:Year 1&2 Maritime Museum
DESCRIPTION:
URL:https://montessoriprimary.school.nz/calendar/year-12-maritime-museum/
CATEGORIES:Class trip
END:VEVENT
BEGIN:VEVENT
DTSTART;TZID=Pacific/Auckland:20250821T090000
DTEND;TZID=Pacific/Auckland:20250821T130000
DTSTAMP:20260423T163612
CREATED:20250728T231105Z
LAST-MODIFIED:20250728T231105Z
UID:9356-1755766800-1755781200@montessoriprimary.school.nz
SUMMARY:R28 Marae Trip
DESCRIPTION:
URL:https://montessoriprimary.school.nz/calendar/r28-marae-trip/
CATEGORIES:Class trip
END:VEVENT
BEGIN:VEVENT
DTSTART;TZID=Pacific/Auckland:20250822T183000
DTEND;TZID=Pacific/Auckland:20250822T220000
DTSTAMP:20260423T163612
CREATED:20250728T232456Z
LAST-MODIFIED:20250728T232456Z
UID:9368-1755887400-1755900000@montessoriprimary.school.nz
SUMMARY:ESMPS Parent & Teacher Dinner - Mexico Ellerslie t.b.c.
DESCRIPTION:https://g.co/kgs/NVnno3t \nCorner Ladies Mile &\, Main Highway\, Ellerslie
URL:https://montessoriprimary.school.nz/calendar/esmps-parent-teacher-dinner-mexico-ellerslie-t-b-c/
LOCATION:Mexico\, Corner Ladies Mile &\, Main Highway\, Ellerslie\, Auckland\, New Zealand
END:VEVENT
BEGIN:VEVENT
DTSTART;TZID=Pacific/Auckland:20250826T190000
DTEND;TZID=Pacific/Auckland:20250826T210000
DTSTAMP:20260423T163612
CREATED:20250226T220241Z
LAST-MODIFIED:20250226T220241Z
UID:9303-1756234800-1756242000@montessoriprimary.school.nz
SUMMARY:Trust Meeting
DESCRIPTION:
URL:https://montessoriprimary.school.nz/calendar/trust-meeting-12/
LOCATION:Montessori Classes\, 217 Riddell Road\, Glendowie\, Auckland\, New Zealand
CATEGORIES:Trust meeting
END:VEVENT
END:VCALENDAR