BEGIN:VCALENDAR
VERSION:2.0
PRODID:-//Eastern Suburbs Montessori - ECPv6.15.20//NONSGML v1.0//EN
CALSCALE:GREGORIAN
METHOD:PUBLISH
X-WR-CALNAME:Eastern Suburbs Montessori
X-ORIGINAL-URL:https://montessoriprimary.school.nz
X-WR-CALDESC:Events for Eastern Suburbs Montessori
REFRESH-INTERVAL;VALUE=DURATION:PT1H
X-Robots-Tag:noindex
X-PUBLISHED-TTL:PT1H
BEGIN:VTIMEZONE
TZID:Pacific/Auckland
BEGIN:STANDARD
TZOFFSETFROM:+1300
TZOFFSETTO:+1200
TZNAME:NZST
DTSTART:20240406T140000
END:STANDARD
BEGIN:DAYLIGHT
TZOFFSETFROM:+1200
TZOFFSETTO:+1300
TZNAME:NZDT
DTSTART:20240928T140000
END:DAYLIGHT
BEGIN:STANDARD
TZOFFSETFROM:+1300
TZOFFSETTO:+1200
TZNAME:NZST
DTSTART:20250405T140000
END:STANDARD
BEGIN:DAYLIGHT
TZOFFSETFROM:+1200
TZOFFSETTO:+1300
TZNAME:NZDT
DTSTART:20250927T140000
END:DAYLIGHT
BEGIN:STANDARD
TZOFFSETFROM:+1300
TZOFFSETTO:+1200
TZNAME:NZST
DTSTART:20260404T140000
END:STANDARD
BEGIN:DAYLIGHT
TZOFFSETFROM:+1200
TZOFFSETTO:+1300
TZNAME:NZDT
DTSTART:20260926T140000
END:DAYLIGHT
END:VTIMEZONE
BEGIN:VEVENT
DTSTART;VALUE=DATE:20250602
DTEND;VALUE=DATE:20250603
DTSTAMP:20260423T194245
CREATED:20250128T213503Z
LAST-MODIFIED:20250128T213503Z
UID:9225-1748822400-1748908799@montessoriprimary.school.nz
SUMMARY:Kings Birthday - SCHOOL CLOSED
DESCRIPTION:
URL:https://montessoriprimary.school.nz/calendar/kings-birthday-school-closed-2/
END:VEVENT
BEGIN:VEVENT
DTSTART;TZID=Pacific/Auckland:20250612T190000
DTEND;TZID=Pacific/Auckland:20250612T203000
DTSTAMP:20260423T194245
CREATED:20250522T211354Z
LAST-MODIFIED:20250522T211354Z
UID:9327-1749754800-1749760200@montessoriprimary.school.nz
SUMMARY:Parent Information Evening
DESCRIPTION:
URL:https://montessoriprimary.school.nz/calendar/parent-information-evening-2/
LOCATION:Montessori Classes\, 217 Riddell Road\, Glendowie\, Auckland\, New Zealand
END:VEVENT
BEGIN:VEVENT
DTSTART;TZID=Pacific/Auckland:20250617T090000
DTEND;TZID=Pacific/Auckland:20250617T140000
DTSTAMP:20260423T194245
CREATED:20250522T210956Z
LAST-MODIFIED:20250522T210956Z
UID:9322-1750150800-1750168800@montessoriprimary.school.nz
SUMMARY:Year 3&4 Auckland Art Gallery
DESCRIPTION:
URL:https://montessoriprimary.school.nz/calendar/year-34-auckland-art-gallery/
LOCATION:Auckland Art Gallery
CATEGORIES:Class trip
END:VEVENT
BEGIN:VEVENT
DTSTART;TZID=Pacific/Auckland:20250618T190000
DTEND;TZID=Pacific/Auckland:20250618T210000
DTSTAMP:20260423T194245
CREATED:20250226T212759Z
LAST-MODIFIED:20250522T211221Z
UID:9295-1750273200-1750280400@montessoriprimary.school.nz
SUMMARY:Trust Meeting
DESCRIPTION:
URL:https://montessoriprimary.school.nz/calendar/trust-meeting-10/
LOCATION:Montessori Classes\, 217 Riddell Road\, Glendowie\, Auckland\, New Zealand
END:VEVENT
BEGIN:VEVENT
DTSTART;VALUE=DATE:20250620
DTEND;VALUE=DATE:20250621
DTSTAMP:20260423T194245
CREATED:20250128T213533Z
LAST-MODIFIED:20250128T213533Z
UID:9227-1750377600-1750463999@montessoriprimary.school.nz
SUMMARY:Matariki - SCHOOL CLOSED
DESCRIPTION:
URL:https://montessoriprimary.school.nz/calendar/matariki-school-closed-3/
END:VEVENT
BEGIN:VEVENT
DTSTART;TZID=Pacific/Auckland:20250626T140000
DTEND;TZID=Pacific/Auckland:20250626T190000
DTSTAMP:20260423T194245
CREATED:20250522T211537Z
LAST-MODIFIED:20250522T211537Z
UID:9329-1750946400-1750964400@montessoriprimary.school.nz
SUMMARY:Parent Teacher Interviews - School closes 1.30pm
DESCRIPTION:
URL:https://montessoriprimary.school.nz/calendar/parent-teacher-interviews-school-closes-1-30pm/
END:VEVENT
BEGIN:VEVENT
DTSTART;TZID=Pacific/Auckland:20250627T080000
DTEND;TZID=Pacific/Auckland:20250627T170000
DTSTAMP:20260423T194245
CREATED:20250128T213838Z
LAST-MODIFIED:20250128T213838Z
UID:9239-1751011200-1751043600@montessoriprimary.school.nz
SUMMARY:Last Day of Term 2
DESCRIPTION:
URL:https://montessoriprimary.school.nz/calendar/last-day-of-term-2-3/
END:VEVENT
END:VCALENDAR