BEGIN:VCALENDAR
VERSION:2.0
PRODID:-//Eastern Suburbs Montessori - ECPv6.15.20//NONSGML v1.0//EN
CALSCALE:GREGORIAN
METHOD:PUBLISH
X-WR-CALNAME:Eastern Suburbs Montessori
X-ORIGINAL-URL:https://montessoriprimary.school.nz
X-WR-CALDESC:Events for Eastern Suburbs Montessori
REFRESH-INTERVAL;VALUE=DURATION:PT1H
X-Robots-Tag:noindex
X-PUBLISHED-TTL:PT1H
BEGIN:VTIMEZONE
TZID:Pacific/Auckland
BEGIN:STANDARD
TZOFFSETFROM:+1300
TZOFFSETTO:+1200
TZNAME:NZST
DTSTART:20240406T140000
END:STANDARD
BEGIN:DAYLIGHT
TZOFFSETFROM:+1200
TZOFFSETTO:+1300
TZNAME:NZDT
DTSTART:20240928T140000
END:DAYLIGHT
BEGIN:STANDARD
TZOFFSETFROM:+1300
TZOFFSETTO:+1200
TZNAME:NZST
DTSTART:20250405T140000
END:STANDARD
BEGIN:DAYLIGHT
TZOFFSETFROM:+1200
TZOFFSETTO:+1300
TZNAME:NZDT
DTSTART:20250927T140000
END:DAYLIGHT
BEGIN:STANDARD
TZOFFSETFROM:+1300
TZOFFSETTO:+1200
TZNAME:NZST
DTSTART:20260404T140000
END:STANDARD
BEGIN:DAYLIGHT
TZOFFSETFROM:+1200
TZOFFSETTO:+1300
TZNAME:NZDT
DTSTART:20260926T140000
END:DAYLIGHT
END:VTIMEZONE
BEGIN:VEVENT
DTSTART;TZID=Pacific/Auckland:20250411T080000
DTEND;TZID=Pacific/Auckland:20250411T170000
DTSTAMP:20260423T224128
CREATED:20250128T213925Z
LAST-MODIFIED:20250128T213925Z
UID:9243-1744358400-1744390800@montessoriprimary.school.nz
SUMMARY:Last Day of Term 1
DESCRIPTION:
URL:https://montessoriprimary.school.nz/calendar/last-day-of-term-1-5/
END:VEVENT
BEGIN:VEVENT
DTSTART;TZID=Pacific/Auckland:20250428T080000
DTEND;TZID=Pacific/Auckland:20250428T170000
DTSTAMP:20260423T224128
CREATED:20250128T213901Z
LAST-MODIFIED:20250128T213901Z
UID:9241-1745827200-1745859600@montessoriprimary.school.nz
SUMMARY:First day of Term 2
DESCRIPTION:
URL:https://montessoriprimary.school.nz/calendar/first-day-of-term-2-2/
END:VEVENT
BEGIN:VEVENT
DTSTART;TZID=Pacific/Auckland:20250429T190000
DTEND;TZID=Pacific/Auckland:20250429T210000
DTSTAMP:20260423T224128
CREATED:20250226T212646Z
LAST-MODIFIED:20250226T212646Z
UID:9291-1745953200-1745960400@montessoriprimary.school.nz
SUMMARY:Trust Meeting
DESCRIPTION:
URL:https://montessoriprimary.school.nz/calendar/trust-meeting-9/
LOCATION:Montessori Classes\, 217 Riddell Road\, Glendowie\, Auckland\, New Zealand
END:VEVENT
END:VCALENDAR