BEGIN:VCALENDAR
VERSION:2.0
PRODID:-//Eastern Suburbs Montessori - ECPv6.15.20//NONSGML v1.0//EN
CALSCALE:GREGORIAN
METHOD:PUBLISH
X-WR-CALNAME:Eastern Suburbs Montessori
X-ORIGINAL-URL:https://montessoriprimary.school.nz
X-WR-CALDESC:Events for Eastern Suburbs Montessori
REFRESH-INTERVAL;VALUE=DURATION:PT1H
X-Robots-Tag:noindex
X-PUBLISHED-TTL:PT1H
BEGIN:VTIMEZONE
TZID:Pacific/Auckland
BEGIN:STANDARD
TZOFFSETFROM:+1300
TZOFFSETTO:+1200
TZNAME:NZST
DTSTART:20240406T140000
END:STANDARD
BEGIN:DAYLIGHT
TZOFFSETFROM:+1200
TZOFFSETTO:+1300
TZNAME:NZDT
DTSTART:20240928T140000
END:DAYLIGHT
BEGIN:STANDARD
TZOFFSETFROM:+1300
TZOFFSETTO:+1200
TZNAME:NZST
DTSTART:20250405T140000
END:STANDARD
BEGIN:DAYLIGHT
TZOFFSETFROM:+1200
TZOFFSETTO:+1300
TZNAME:NZDT
DTSTART:20250927T140000
END:DAYLIGHT
BEGIN:STANDARD
TZOFFSETFROM:+1300
TZOFFSETTO:+1200
TZNAME:NZST
DTSTART:20260404T140000
END:STANDARD
BEGIN:DAYLIGHT
TZOFFSETFROM:+1200
TZOFFSETTO:+1300
TZNAME:NZDT
DTSTART:20260926T140000
END:DAYLIGHT
END:VTIMEZONE
BEGIN:VEVENT
DTSTART;TZID=Pacific/Auckland:20250203T080000
DTEND;TZID=Pacific/Auckland:20250203T170000
DTSTAMP:20260424T015112
CREATED:20250128T213943Z
LAST-MODIFIED:20250128T213943Z
UID:9245-1738569600-1738602000@montessoriprimary.school.nz
SUMMARY:Term 1 starts
DESCRIPTION:
URL:https://montessoriprimary.school.nz/calendar/term-1-starts-2/
END:VEVENT
BEGIN:VEVENT
DTSTART;TZID=Pacific/Auckland:20250203T150000
DTEND;TZID=Pacific/Auckland:20250203T163000
DTSTAMP:20260424T015112
CREATED:20250128T211723Z
LAST-MODIFIED:20250128T211723Z
UID:9199-1738594800-1738600200@montessoriprimary.school.nz
SUMMARY:Welcome Back - Afternoon Tea
DESCRIPTION:
URL:https://montessoriprimary.school.nz/calendar/welcome-back-afternoon-tea/
END:VEVENT
BEGIN:VEVENT
DTSTART;VALUE=DATE:20250206
DTEND;VALUE=DATE:20250207
DTSTAMP:20260424T015112
CREATED:20250128T213027Z
LAST-MODIFIED:20250128T213027Z
UID:9213-1738800000-1738886399@montessoriprimary.school.nz
SUMMARY:Waitangi Day - SCHOOL CLOSED
DESCRIPTION:
URL:https://montessoriprimary.school.nz/calendar/waitangi-day-school-closed/
END:VEVENT
BEGIN:VEVENT
DTSTART;TZID=Pacific/Auckland:20250213T193000
DTEND;TZID=Pacific/Auckland:20250213T210000
DTSTAMP:20260424T015112
CREATED:20250128T212749Z
LAST-MODIFIED:20250128T212749Z
UID:9207-1739475000-1739480400@montessoriprimary.school.nz
SUMMARY:MPTA Meeting
DESCRIPTION:
URL:https://montessoriprimary.school.nz/calendar/mpta-meeting-4/
LOCATION:Room 27
CATEGORIES:PTA meeting
END:VEVENT
BEGIN:VEVENT
DTSTART;TZID=Pacific/Auckland:20250216T140000
DTEND;TZID=Pacific/Auckland:20250216T160000
DTSTAMP:20260424T015112
CREATED:20250128T212831Z
LAST-MODIFIED:20250128T212831Z
UID:9209-1739714400-1739721600@montessoriprimary.school.nz
SUMMARY:Outside Working Bee
DESCRIPTION:
URL:https://montessoriprimary.school.nz/calendar/outside-working-bee/
LOCATION:Montessori Classes\, 217 Riddell Road\, Glendowie\, Auckland\, New Zealand
CATEGORIES:Working Bee
END:VEVENT
END:VCALENDAR