BEGIN:VCALENDAR
VERSION:2.0
PRODID:-//Eastern Suburbs Montessori - ECPv6.15.20//NONSGML v1.0//EN
CALSCALE:GREGORIAN
METHOD:PUBLISH
X-WR-CALNAME:Eastern Suburbs Montessori
X-ORIGINAL-URL:https://montessoriprimary.school.nz
X-WR-CALDESC:Events for Eastern Suburbs Montessori
REFRESH-INTERVAL;VALUE=DURATION:PT1H
X-Robots-Tag:noindex
X-PUBLISHED-TTL:PT1H
BEGIN:VTIMEZONE
TZID:Pacific/Auckland
BEGIN:STANDARD
TZOFFSETFROM:+1300
TZOFFSETTO:+1200
TZNAME:NZST
DTSTART:20230401T140000
END:STANDARD
BEGIN:DAYLIGHT
TZOFFSETFROM:+1200
TZOFFSETTO:+1300
TZNAME:NZDT
DTSTART:20230923T140000
END:DAYLIGHT
BEGIN:STANDARD
TZOFFSETFROM:+1300
TZOFFSETTO:+1200
TZNAME:NZST
DTSTART:20240406T140000
END:STANDARD
BEGIN:DAYLIGHT
TZOFFSETFROM:+1200
TZOFFSETTO:+1300
TZNAME:NZDT
DTSTART:20240928T140000
END:DAYLIGHT
BEGIN:STANDARD
TZOFFSETFROM:+1300
TZOFFSETTO:+1200
TZNAME:NZST
DTSTART:20250405T140000
END:STANDARD
BEGIN:DAYLIGHT
TZOFFSETFROM:+1200
TZOFFSETTO:+1300
TZNAME:NZDT
DTSTART:20250927T140000
END:DAYLIGHT
END:VTIMEZONE
BEGIN:VEVENT
DTSTART;TZID=Pacific/Auckland:20241102T140000
DTEND;TZID=Pacific/Auckland:20241102T160000
DTSTAMP:20260424T065020
CREATED:20231015T224651Z
LAST-MODIFIED:20231015T224651Z
UID:8995-1730556000-1730563200@montessoriprimary.school.nz
SUMMARY:Working Bee - Outside (Either 2nd or 3rd November)
DESCRIPTION:
URL:https://montessoriprimary.school.nz/calendar/working-bee-outside-either-2nd-or-3rd-november/
END:VEVENT
BEGIN:VEVENT
DTSTART;VALUE=DATE:20241104
DTEND;VALUE=DATE:20241105
DTSTAMP:20260424T065020
CREATED:20240902T202152Z
LAST-MODIFIED:20240902T202152Z
UID:9183-1730678400-1730764799@montessoriprimary.school.nz
SUMMARY:Teacher Only Day - School Closed
DESCRIPTION:
URL:https://montessoriprimary.school.nz/calendar/teacher-only-day-school-closed-7/
END:VEVENT
BEGIN:VEVENT
DTSTART;TZID=Pacific/Auckland:20241106T190000
DTEND;TZID=Pacific/Auckland:20241106T203000
DTSTAMP:20260424T065020
CREATED:20241018T013927Z
LAST-MODIFIED:20241018T013927Z
UID:9194-1730919600-1730925000@montessoriprimary.school.nz
SUMMARY:Raising Mentally Healthy Children - Glendowie School Free Parent Event
DESCRIPTION:
URL:https://montessoriprimary.school.nz/calendar/raising-mentally-healthy-children-glendowie-school-free-parent-event/
LOCATION:Glendowie School Hall
END:VEVENT
BEGIN:VEVENT
DTSTART;TZID=Pacific/Auckland:20241111T090000
DTEND;TZID=Pacific/Auckland:20241111T143000
DTSTAMP:20260424T065020
CREATED:20241018T013647Z
LAST-MODIFIED:20241018T013647Z
UID:9188-1731315600-1731335400@montessoriprimary.school.nz
SUMMARY:Year 1&2 Auckland Museum Trip
DESCRIPTION:
URL:https://montessoriprimary.school.nz/calendar/year-12-auckland-museum-trip/
LOCATION:Auckland Museum\, Auckland\, New Zealand
CATEGORIES:Class trip
END:VEVENT
BEGIN:VEVENT
DTSTART;TZID=Pacific/Auckland:20241113T090000
DTEND;TZID=Pacific/Auckland:20241113T143000
DTSTAMP:20260424T065020
CREATED:20240818T212019Z
LAST-MODIFIED:20240818T212019Z
UID:9176-1731488400-1731508200@montessoriprimary.school.nz
SUMMARY:Yr 5-8 Athletics Day - Glover Park
DESCRIPTION:
URL:https://montessoriprimary.school.nz/calendar/yr-5-8-athletics-day-glover-park/
LOCATION:Glover Park
CATEGORIES:Sports
END:VEVENT
BEGIN:VEVENT
DTSTART;TZID=Pacific/Auckland:20241118T190000
DTEND;TZID=Pacific/Auckland:20241118T210000
DTSTAMP:20260424T065020
CREATED:20240221T222155Z
LAST-MODIFIED:20240221T222155Z
UID:9074-1731956400-1731963600@montessoriprimary.school.nz
SUMMARY:Montessori Trust Meeting
DESCRIPTION:
URL:https://montessoriprimary.school.nz/calendar/montessori-trust-meeting-7/
LOCATION:Room 27
CATEGORIES:Trust meeting
END:VEVENT
BEGIN:VEVENT
DTSTART;TZID=Pacific/Auckland:20241127T090000
DTEND;TZID=Pacific/Auckland:20241127T143000
DTSTAMP:20260424T065020
CREATED:20241018T013814Z
LAST-MODIFIED:20241018T013814Z
UID:9192-1732698000-1732717800@montessoriprimary.school.nz
SUMMARY:Year 0-4 Athletics
DESCRIPTION:
URL:https://montessoriprimary.school.nz/calendar/year-0-4-athletics-2/
LOCATION:Glendowie School Astroturf\, 217 Riddell Road\, Glendowie\, Auckland\, 1071\, New Zealand
END:VEVENT
END:VCALENDAR