BEGIN:VCALENDAR
VERSION:2.0
PRODID:-//Eastern Suburbs Montessori - ECPv6.15.20//NONSGML v1.0//EN
CALSCALE:GREGORIAN
METHOD:PUBLISH
X-WR-CALNAME:Eastern Suburbs Montessori
X-ORIGINAL-URL:https://montessoriprimary.school.nz
X-WR-CALDESC:Events for Eastern Suburbs Montessori
REFRESH-INTERVAL;VALUE=DURATION:PT1H
X-Robots-Tag:noindex
X-PUBLISHED-TTL:PT1H
BEGIN:VTIMEZONE
TZID:Pacific/Auckland
BEGIN:STANDARD
TZOFFSETFROM:+1300
TZOFFSETTO:+1200
TZNAME:NZST
DTSTART:20230401T140000
END:STANDARD
BEGIN:DAYLIGHT
TZOFFSETFROM:+1200
TZOFFSETTO:+1300
TZNAME:NZDT
DTSTART:20230923T140000
END:DAYLIGHT
BEGIN:STANDARD
TZOFFSETFROM:+1300
TZOFFSETTO:+1200
TZNAME:NZST
DTSTART:20240406T140000
END:STANDARD
BEGIN:DAYLIGHT
TZOFFSETFROM:+1200
TZOFFSETTO:+1300
TZNAME:NZDT
DTSTART:20240928T140000
END:DAYLIGHT
BEGIN:STANDARD
TZOFFSETFROM:+1300
TZOFFSETTO:+1200
TZNAME:NZST
DTSTART:20250405T140000
END:STANDARD
BEGIN:DAYLIGHT
TZOFFSETFROM:+1200
TZOFFSETTO:+1300
TZNAME:NZDT
DTSTART:20250927T140000
END:DAYLIGHT
END:VTIMEZONE
BEGIN:VEVENT
DTSTART;TZID=Pacific/Auckland:20241014T083000
DTEND;TZID=Pacific/Auckland:20241014T170000
DTSTAMP:20260424T082342
CREATED:20231015T225537Z
LAST-MODIFIED:20231015T225537Z
UID:9020-1728894600-1728925200@montessoriprimary.school.nz
SUMMARY:Term 4 starts
DESCRIPTION:
URL:https://montessoriprimary.school.nz/calendar/term-4-starts-3/
END:VEVENT
BEGIN:VEVENT
DTSTART;TZID=Pacific/Auckland:20241018T133000
DTEND;TZID=Pacific/Auckland:20241018T140000
DTSTAMP:20260424T082342
CREATED:20240818T211802Z
LAST-MODIFIED:20240818T211802Z
UID:9172-1729258200-1729260000@montessoriprimary.school.nz
SUMMARY:Year 6 Exhibition - Parent Visit
DESCRIPTION:
URL:https://montessoriprimary.school.nz/calendar/year-6-exhibition-parent-visit/
END:VEVENT
BEGIN:VEVENT
DTSTART;TZID=Pacific/Auckland:20241024T193000
DTEND;TZID=Pacific/Auckland:20241024T210000
DTSTAMP:20260424T082342
CREATED:20231015T224608Z
LAST-MODIFIED:20231015T224608Z
UID:8993-1729798200-1729803600@montessoriprimary.school.nz
SUMMARY:Montessori PTA Meeting
DESCRIPTION:
URL:https://montessoriprimary.school.nz/calendar/montessori-pta-meeting-6/
END:VEVENT
BEGIN:VEVENT
DTSTART;TZID=Pacific/Auckland:20241025T090000
DTEND;TZID=Pacific/Auckland:20241025T103000
DTSTAMP:20260424T082342
CREATED:20241018T013605Z
LAST-MODIFIED:20241018T013605Z
UID:9186-1729846800-1729852200@montessoriprimary.school.nz
SUMMARY:Year 7 - Investigation of the Rocky Shore
DESCRIPTION:
URL:https://montessoriprimary.school.nz/calendar/year-7-investigation-of-the-rocky-shore/
END:VEVENT
BEGIN:VEVENT
DTSTART;TZID=Pacific/Auckland:20241028T080000
DTEND;TZID=Pacific/Auckland:20241028T170000
DTSTAMP:20260424T082342
CREATED:20231015T225612Z
LAST-MODIFIED:20231015T225612Z
UID:9022-1730102400-1730134800@montessoriprimary.school.nz
SUMMARY:Labour Day - School Closed
DESCRIPTION:
URL:https://montessoriprimary.school.nz/calendar/labour-day-school-closed-6/
END:VEVENT
BEGIN:VEVENT
DTSTART;TZID=Pacific/Auckland:20241030T190000
DTEND;TZID=Pacific/Auckland:20241030T210000
DTSTAMP:20260424T082342
CREATED:20240221T222116Z
LAST-MODIFIED:20241018T014117Z
UID:9072-1730314800-1730322000@montessoriprimary.school.nz
SUMMARY:Montessori Trust Meeting
DESCRIPTION:
URL:https://montessoriprimary.school.nz/calendar/montessori-trust-meeting-6/
LOCATION:Room 27
CATEGORIES:Trust meeting
END:VEVENT
END:VCALENDAR