BEGIN:VCALENDAR
VERSION:2.0
PRODID:-//Eastern Suburbs Montessori - ECPv6.15.20//NONSGML v1.0//EN
CALSCALE:GREGORIAN
METHOD:PUBLISH
X-WR-CALNAME:Eastern Suburbs Montessori
X-ORIGINAL-URL:https://montessoriprimary.school.nz
X-WR-CALDESC:Events for Eastern Suburbs Montessori
REFRESH-INTERVAL;VALUE=DURATION:PT1H
X-Robots-Tag:noindex
X-PUBLISHED-TTL:PT1H
BEGIN:VTIMEZONE
TZID:Pacific/Auckland
BEGIN:STANDARD
TZOFFSETFROM:+1300
TZOFFSETTO:+1200
TZNAME:NZST
DTSTART:20230401T140000
END:STANDARD
BEGIN:DAYLIGHT
TZOFFSETFROM:+1200
TZOFFSETTO:+1300
TZNAME:NZDT
DTSTART:20230923T140000
END:DAYLIGHT
BEGIN:STANDARD
TZOFFSETFROM:+1300
TZOFFSETTO:+1200
TZNAME:NZST
DTSTART:20240406T140000
END:STANDARD
BEGIN:DAYLIGHT
TZOFFSETFROM:+1200
TZOFFSETTO:+1300
TZNAME:NZDT
DTSTART:20240928T140000
END:DAYLIGHT
BEGIN:STANDARD
TZOFFSETFROM:+1300
TZOFFSETTO:+1200
TZNAME:NZST
DTSTART:20250405T140000
END:STANDARD
BEGIN:DAYLIGHT
TZOFFSETFROM:+1200
TZOFFSETTO:+1300
TZNAME:NZDT
DTSTART:20250927T140000
END:DAYLIGHT
END:VTIMEZONE
BEGIN:VEVENT
DTSTART;TZID=Pacific/Auckland:20240701T091500
DTEND;TZID=Pacific/Auckland:20240701T123000
DTSTAMP:20260424T132205
CREATED:20240513T015152Z
LAST-MODIFIED:20240513T015152Z
UID:9083-1719825300-1719837000@montessoriprimary.school.nz
SUMMARY:Year 1 & 2 Stardome Trip (Group 1)
DESCRIPTION:
URL:https://montessoriprimary.school.nz/calendar/year-1-2-stardome-trip-group-1/
LOCATION:Stardome\, 670 Manukau Road\, Epsom\, Auckland
CATEGORIES:Class trip
END:VEVENT
BEGIN:VEVENT
DTSTART;TZID=Pacific/Auckland:20240701T190000
DTEND;TZID=Pacific/Auckland:20240701T210000
DTSTAMP:20260424T132205
CREATED:20240513T020031Z
LAST-MODIFIED:20240513T020031Z
UID:9089-1719860400-1719867600@montessoriprimary.school.nz
SUMMARY:Parent Information Evening with JAMIE RUE - Montessori & Technology
DESCRIPTION:Jamie is the Head of School at Aidan Montessori School\, in Washington\, DC. Prior to that\, she founded Rising Tide Montessori\, an online resource center\, and Sea Lavender Montessori\, a micro-school associated with Wildflower Schools. Her career in Montessori education is now in its third decade\, and includes more than 10 years as a classroom teacher and school administrator and over 10 years as a trainer of teachers. She is an Association Montessori Internationale (AMI) trainer\, examiner\, and consultant at the primary level. She has coached teachers and advised administrators at schools around the world\, and she has presented at conferences and for parents as well. She founded and also regularly participates in the podcast All Things Montessori. 
URL:https://montessoriprimary.school.nz/calendar/parent-information-evening-with-jamie-rue-montessori-technology/
LOCATION:Glendowie School Mini Hall\, 217 Riddell Road\, Glendowie\, Auckland
END:VEVENT
BEGIN:VEVENT
DTSTART;TZID=Pacific/Auckland:20240703T111500
DTEND;TZID=Pacific/Auckland:20240703T143000
DTSTAMP:20260424T132205
CREATED:20240513T015251Z
LAST-MODIFIED:20240513T015251Z
UID:9085-1720005300-1720017000@montessoriprimary.school.nz
SUMMARY:Year 1 & 2 Stardome Trip (Group 2)
DESCRIPTION:
URL:https://montessoriprimary.school.nz/calendar/year-1-2-stardome-trip-group-2/
LOCATION:Stardome\, 670 Manukau Road\, Epsom\, Auckland
CATEGORIES:Class trip
END:VEVENT
BEGIN:VEVENT
DTSTART;TZID=Pacific/Auckland:20240705T150000
DTEND;TZID=Pacific/Auckland:20240705T170000
DTSTAMP:20260424T132205
CREATED:20231015T225341Z
LAST-MODIFIED:20231015T225341Z
UID:9012-1720191600-1720198800@montessoriprimary.school.nz
SUMMARY:Last day of Term 2
DESCRIPTION:
URL:https://montessoriprimary.school.nz/calendar/last-day-of-term-2-2/
END:VEVENT
BEGIN:VEVENT
DTSTART;TZID=Pacific/Auckland:20240722T083000
DTEND;TZID=Pacific/Auckland:20240722T170000
DTSTAMP:20260424T132205
CREATED:20231015T225433Z
LAST-MODIFIED:20231015T225433Z
UID:9016-1721637000-1721667600@montessoriprimary.school.nz
SUMMARY:Term 3
DESCRIPTION:
URL:https://montessoriprimary.school.nz/calendar/term-3-3/
END:VEVENT
BEGIN:VEVENT
DTSTART;TZID=Pacific/Auckland:20240729T190000
DTEND;TZID=Pacific/Auckland:20240729T210000
DTSTAMP:20260424T132205
CREATED:20240221T221948Z
LAST-MODIFIED:20240221T221948Z
UID:9068-1722279600-1722286800@montessoriprimary.school.nz
SUMMARY:Montessori Trust Meeting
DESCRIPTION:
URL:https://montessoriprimary.school.nz/calendar/montessori-trust-meeting-4/
LOCATION:Room 27
CATEGORIES:Trust meeting
END:VEVENT
END:VCALENDAR