BEGIN:VCALENDAR
VERSION:2.0
PRODID:-//Eastern Suburbs Montessori - ECPv6.15.20//NONSGML v1.0//EN
CALSCALE:GREGORIAN
METHOD:PUBLISH
X-WR-CALNAME:Eastern Suburbs Montessori
X-ORIGINAL-URL:https://montessoriprimary.school.nz
X-WR-CALDESC:Events for Eastern Suburbs Montessori
REFRESH-INTERVAL;VALUE=DURATION:PT1H
X-Robots-Tag:noindex
X-PUBLISHED-TTL:PT1H
BEGIN:VTIMEZONE
TZID:Pacific/Auckland
BEGIN:STANDARD
TZOFFSETFROM:+1300
TZOFFSETTO:+1200
TZNAME:NZST
DTSTART:20220402T140000
END:STANDARD
BEGIN:DAYLIGHT
TZOFFSETFROM:+1200
TZOFFSETTO:+1300
TZNAME:NZDT
DTSTART:20220924T140000
END:DAYLIGHT
BEGIN:STANDARD
TZOFFSETFROM:+1300
TZOFFSETTO:+1200
TZNAME:NZST
DTSTART:20230401T140000
END:STANDARD
BEGIN:DAYLIGHT
TZOFFSETFROM:+1200
TZOFFSETTO:+1300
TZNAME:NZDT
DTSTART:20230923T140000
END:DAYLIGHT
BEGIN:STANDARD
TZOFFSETFROM:+1300
TZOFFSETTO:+1200
TZNAME:NZST
DTSTART:20240406T140000
END:STANDARD
BEGIN:DAYLIGHT
TZOFFSETFROM:+1200
TZOFFSETTO:+1300
TZNAME:NZDT
DTSTART:20240928T140000
END:DAYLIGHT
END:VTIMEZONE
BEGIN:VEVENT
DTSTART;TZID=Pacific/Auckland:20231201T190000
DTEND;TZID=Pacific/Auckland:20231201T190000
DTSTAMP:20260426T073007
CREATED:20230808T221808Z
LAST-MODIFIED:20231101T002057Z
UID:8962-1701457200-1701457200@montessoriprimary.school.nz
SUMMARY:Trust Meeting
DESCRIPTION:
URL:https://montessoriprimary.school.nz/calendar/trust-meeting-followed-by-dinner/
CATEGORIES:Trust meeting
END:VEVENT
END:VCALENDAR