BEGIN:VCALENDAR
VERSION:2.0
PRODID:-//Eastern Suburbs Montessori - ECPv6.15.20//NONSGML v1.0//EN
CALSCALE:GREGORIAN
METHOD:PUBLISH
X-ORIGINAL-URL:https://montessoriprimary.school.nz
X-WR-CALDESC:Events for Eastern Suburbs Montessori
REFRESH-INTERVAL;VALUE=DURATION:PT1H
X-Robots-Tag:noindex
X-PUBLISHED-TTL:PT1H
BEGIN:VTIMEZONE
TZID:Pacific/Auckland
BEGIN:STANDARD
TZOFFSETFROM:+1300
TZOFFSETTO:+1200
TZNAME:NZST
DTSTART:20220402T140000
END:STANDARD
BEGIN:DAYLIGHT
TZOFFSETFROM:+1200
TZOFFSETTO:+1300
TZNAME:NZDT
DTSTART:20220924T140000
END:DAYLIGHT
BEGIN:STANDARD
TZOFFSETFROM:+1300
TZOFFSETTO:+1200
TZNAME:NZST
DTSTART:20230401T140000
END:STANDARD
BEGIN:DAYLIGHT
TZOFFSETFROM:+1200
TZOFFSETTO:+1300
TZNAME:NZDT
DTSTART:20230923T140000
END:DAYLIGHT
BEGIN:STANDARD
TZOFFSETFROM:+1300
TZOFFSETTO:+1200
TZNAME:NZST
DTSTART:20240406T140000
END:STANDARD
BEGIN:DAYLIGHT
TZOFFSETFROM:+1200
TZOFFSETTO:+1300
TZNAME:NZDT
DTSTART:20240928T140000
END:DAYLIGHT
END:VTIMEZONE
BEGIN:VEVENT
DTSTART;TZID=Pacific/Auckland:20231207T173000
DTEND;TZID=Pacific/Auckland:20231207T190000
DTSTAMP:20260426T061342
CREATED:20230808T221725Z
LAST-MODIFIED:20230808T221725Z
UID:8960-1701970200-1701975600@montessoriprimary.school.nz
SUMMARY:Montessori Leaving Ceremony
DESCRIPTION:
URL:https://montessoriprimary.school.nz/calendar/montessori-leaving-ceremony-2/
LOCATION:Glendowie School Mini Hall\, 217 Riddell Road\, Glendowie\, Auckland
CATEGORIES:Leaving Ceremony
END:VEVENT
END:VCALENDAR